Workbook

Sheet Top 15
B1: Division 1 League Leaders - 13 games played minimum
B3: Points Per Game (PTS) | G3: Rebounds Per Game (REB) | L3: Assists Per Game (AST) | Q3: Steals Per Game (STL) | V3: CPL Proficiency Rating (CPR)
B4: Name | C4: Team | D4: Games | E4: PTS | G4: Name | H4: Team | I4: Games | J4: REB | L4: Name | M4: Team | N4: Games | O4: AST | Q4: Name | R4: Team | S4: Games | T4: STL | V4: Name | W4: Team | X4: Games | Y4: CPR
A5: 1 | B5: Josh Buchaniec | C5: Phantoms | D5: 27 | E5: 18.111111 | G5: Jono Miller | H5: Cannons | I5: 22 | J5: 9.7727273 | L5: Toby Conroy | M5: Hawks | N5: 24 | O5: 5.9583333 | Q5: Anthony Pronin | R5: Cannons | S5: 24 | T5: 3 | V5: Nicol Bolos | W5: The Bucket Warehouse | X5: 30 | Y5: 30.3
A6: 2 | B6: Nicol Bolos | C6: The Bucket Warehouse | D6: 30 | E6: 17.233333 | G6: Nicol Bolos | H6: The Bucket Warehouse | I6: 30 | J6: 8.8333333 | L6: Blake Richards | M6: Phantoms | N6: 16 | O6: 5.625 | Q6: Isaac Maher | R6: The Bucket Warehouse | S6: 13 | T6: 2.3076923 | V6: Jono Miller | W6: Cannons | X6: 22 | Y6: 27.136364
A7: 3 | B7: Jake Saunders | C7: Pork Swords | D7: 14 | E7: 16.285714 | G7: Altangerel Ganzorig | H7: Goldenlight Warriors | I7: 19 | J7: 7.6842105 | L7: Aaron Coddington | M7: Hawks | N7: 24 | O7: 4.2916667 | Q7: Aaron McMillan | R7: Cannons | S7: 32 | T7: 1.9375 | V7: Toby Conroy | W7: Hawks | X7: 24 | Y7: 26.520833
A8: 4 | B8: Jordan Kitchener | C8: Phantoms | D8: 15 | E8: 15.533333 | G8: Bryan Neequaye | H8: Frabakah Elite | I8: 30 | J8: 7.5666667 | L8: Zac Brill-Luck | M8: Beavers | N8: 24 | O8: 4.25 | Q8: Sam Bates | R8: Pork Swords | S8: 16 | T8: 1.9375 | V8: Jordan Kitchener | W8: Phantoms | X8: 15 | Y8: 25.533333
A9: 5 | B9: Alex Tumurbaatar | C9: Goldenlight Warriors | D9: 26 | E9: 15.192308 | G9: Batadorj Ganbaatar | H9: Goldenlight Warriors | I9: 27 | J9: 7.5555556 | L9: Declan Kain | M9: Pork Swords | N9: 17 | O9: 4.0588235 | Q9: Nicol Bolos | R9: The Bucket Warehouse | S9: 30 | T9: 1.8 | V9: Brynn Williams | W9: Pork Swords | X9: 17 | Y9: 24.882353
A10: 6 | B10: Brynn Williams | C10: Pork Swords | D10: 17 | E10: 14.470588 | G10: Justin Mesman | H10: Pork Swords | I10: 20 | J10: 7.45 | L10: Jordan Kitchener | M10: Phantoms | N10: 15 | O10: 3.7333333 | Q10: Alex Tumurbaatar | R10: Goldenlight Warriors | S10: 26 | T10: 1.7307692 | V10: Josh Buchaniec | W10: Phantoms | X10: 27 | Y10: 24.851852
A11: 7 | B11: Isaac Maher | C11: The Bucket Warehouse | D11: 13 | E11: 14.230769 | G11: Flynn Attard | H11: Goldenlight Warriors | I11: 29 | J11: 7.4137931 | L11: Isaac Maher | M11: The Bucket Warehouse | N11: 13 | O11: 3.5384615 | Q11: Clarence Revilla | R11: Frabakah Elite | S11: 31 | T11: 1.7096774 | V11: Isaac Maher | W11: The Bucket Warehouse | X11: 13 | Y11: 23.769231
A12: 8 | B12: Sam Bates | C12: Pork Swords | D12: 16 | E12: 14.0625 | G12: Mooch Jones | H12: Cannons | I12: 32 | J12: 7.15625 | L12: Brynn Williams | M12: Pork Swords | N12: 17 | O12: 3.5294118 | Q12: Toby Conroy | R12: Hawks | S12: 24 | T12: 1.7083333 | V12: Kai Grant | W12: Phantoms | X12: 18 | Y12: 22.194444
A13: 9 | B13: Kai Grant | C13: Phantoms | D13: 18 | E13: 13.333333 | G13: Eric Malcolm | H13: Hawks | I13: 24 | J13: 7 | L13: Mitch Brown | M13: Beavers | N13: 29 | O13: 3.5172414 | Q13: Jordan Kitchener | R13: Phantoms | S13: 15 | T13: 1.6666667 | V13: Clarence Revilla | W13: Frabakah Elite | X13: 31 | Y13: 21.983871
A14: 10 | B14: Trystan Zafico | C14: The Bucket Warehouse | D14: 22 | E14: 13.318182 | G14: Andrew Bawden | H14: Phantoms | I14: 26 | J14: 6.9230769 | L14: Anthony Pronin | M14: Cannons | N14: 24 | O14: 3.4583333 | Q14: Jono Miller | R14: Cannons | S14: 22 | T14: 1.6363636 | V14: Alex Tumurbaatar | W14: Goldenlight Warriors | X14: 26 | Y14: 21.980769
A15: 11 | B15: Jono Miller | C15: Cannons | D15: 22 | E15: 12.681818 | G15: Toby Conroy | H15: Hawks | I15: 24 | J15: 6.7916667 | L15: Gabe Haynes | M15: Cannons | N15: 29 | O15: 3.4137931 | Q15: Tuvshinbagana Munkhjargal | R15: Goldenlight Warriors | S15: 28 | T15: 1.6071429 | V15: Sam Bates | W15: Pork Swords | X15: 16 | Y15: 21.8125
A16: 12 | B16: Isaac Plunkett | C16: Hawks | D16: 28 | E16: 12.285714 | G16: Michael Ashton | H16: Hawks | I16: 26 | J16: 6.6923077 | L16: Brendan Hoang | M16: Pork Swords | N16: 27 | O16: 3.1481481 | Q16: Ariston Sillana | R16: Cannons | S16: 17 | T16: 1.5294118 | V16: Zac Brill-Luck | W16: Beavers | X16: 24 | Y16: 21.708333
... A19: 15 | B19: Clarence Revilla | C19: Frabakah Elite | D19: 31 | E19: 11.483871 | G19: Zac Brill-Luck | H19: Beavers | I19: 24 | J19: 6.25 | L19: John Southwell | M19: Cannons | N19: 28 | O19: 3.0714286 | Q19: Mitch Brown | R19: Beavers | S19: 29 | T19: 1.4137931 | V19: Anthony Pronin | W19: Cannons | X19: 24 | Y19: 20.0625
B21: Blocks Per Game (BLK) | G21: Personal Fouls Per Game (PFS) | L21: 3 Pointers Per Game (3P) | Q21: Free throws Per Game (FT)
B22: Name | C22: Team | D22: Games | E22: BLK | G22: Name | H22: Team | I22: Games | J22: PFS | L22: Name | M22: Team | N22: Games | O22: 3P | Q22: Name | R22: Team | S22: Games | T22: FT
A23: 1 | B23: Toby Hannan | C23: The Bucket Warehouse | D23: 22 | E23: 1.2727273 | G23: Alex Tumurbaatar | H23: Goldenlight Warriors | I23: 26 | J23: 3 | L23: Jake Saunders | M23: Pork Swords | N23: 14 | O23: 4.4285714 | Q23: Alex Tumurbaatar | R23: Goldenlight Warriors | S23: 26 | T23: 2.8076923
A24: 2 | B24: Flynn Attard | C24: Goldenlight Warriors | D24: 29 | E24: 1.2413793 | G24: Andrew Bawden | H24: Phantoms | I24: 26 | J24: 2.6153846 | L24: Josh Buchaniec | M24: Phantoms | N24: 27 | O24: 3.1481481 | Q24: Anthony Pronin | R24: Cannons | S24: 24 | T24: 2.4166667
A25: 3 | B25: Mooch Jones | C25: Cannons | D25: 32 | E25: 1 | G25: Batadorj Ganbaatar | H25: Goldenlight Warriors | I25: 27 | J25: 2.5555556 | L25: Isaac Plunkett | M25: Hawks | N25: 28 | O25: 3.0714286 | Q25: Brendan Hoang | R25: Pork Swords | S25: 27 | T25: 2.0740741
A26: 4 | B26: Jono Miller | C26: Cannons | D26: 22 | E26: 1 | G26: Anthony Pronin | H26: Cannons | I26: 24 | J26: 2.375 | L26: Erkhtur Erdenebileg | M26: Goldenlight Warriors | N26: 24 | O26: 2.9583333 | Q26: Jono Miller | R26: Cannons | S26: 22 | T26: 2.0454545
A27: 5 | B27: Justin Mesman | C27: Pork Swords | D27: 20 | E27: 0.95 | G27: Altangerel Ganzorig | H27: Goldenlight Warriors | I27: 19 | J27: 2.3157895 | L27: Isaac Maher | M27: The Bucket Warehouse | N27: 13 | O27: 2.8461538 | Q27: Declan Kain | R27: Pork Swords | S27: 17 | T27: 1.8235294
A28: 6 | B28: Andrew Bawden | C28: Phantoms | D28: 26 | E28: 0.92307692 | G28: Toby Hannan | H28: The Bucket Warehouse | I28: 22 | J28: 2.2272727 | L28: Nicol Bolos | M28: The Bucket Warehouse | N28: 30 | O28: 2.5666667 | Q28: Dennis Khanthavivone | R28: Hawks | S28: 25 | T28: 1.8
A29: 7 | B29: Kai Grant | C29: Phantoms | D29: 18 | E29: 0.88888889 | G29: Ben Artuso | H29: Phantoms | I29: 15 | J29: 2.1333333 | L29: Sam Bates | M29: Pork Swords | N29: 16 | O29: 2.4375 | Q29: Josh Buchaniec | R29: Phantoms | S29: 27 | T29: 1.7777778
A30: 8 | B30: Michael Ashton | C30: Hawks | D30: 26 | E30: 0.84615385 | G30: Bryan Neequaye | H30: Frabakah Elite | I30: 30 | J30: 2.0666667 | L30: Mitch Brown | M30: Beavers | N30: 29 | O30: 2.2413793 | Q30: Brynn Williams | R30: Pork Swords | S30: 17 | T30: 1.6470588
A31: 9 | B31: Joses Idehen | C31: Frabakah Elite | D31: 17 | E31: 0.76470588 | G31: Aaron McMillan | H31: Cannons | I31: 32 | J31: 1.9375 | L31: Brynn Williams | M31: Pork Swords | N31: 17 | O31: 2.2352941 | Q31: Sid Street | R31: Pork Swords | S31: 26 | T31: 1.6153846
A32: 10 | B32: Matt Lowden | C32: The Bucket Warehouse | D32: 24 | E32: 0.75 | G32: Tuvshinbagana Munkhjargal | H32: Goldenlight Warriors | I32: 28 | J32: 1.9285714 | L32: Dave Peters | M32: Beavers | N32: 17 | O32: 2.1176471 | Q32: Michael Ashton | R32: Hawks | S32: 26 | T32: 1.5769231
A33: 11 | B33: Joshua Barclay | C33: Beavers | D33: 26 | E33: 0.73076923 | G33: Ariston Sillana | H33: Cannons | I33: 17 | J33: 1.8823529 | L33: Trystan Zafico | M33: The Bucket Warehouse | N33: 22 | O33: 2.0909091 | Q33: Kai Grant | R33: Phantoms | S33: 18 | T33: 1.5555556
A34: 12 | B34: Jordan Sembel | C34: Pork Swords | D34: 23 | E34: 0.69565217 | G34: Mooch Jones | H34: Cannons | I34: 32 | J34: 1.875 | L34: Steven Barclay | M34: Beavers | N34: 24 | O34: 1.625 | Q34: Batadorj Ganbaatar | R34: Goldenlight Warriors | S34: 27 | T34: 1.5555556
... A37: 15 | B37: Clarence Revilla | C37: Frabakah Elite | D37: 31 | E37: 0.35483871 | G37: Sam Bates | H37: Pork Swords | I37: 16 | J37: 1.6875 | L37: Zac Brill-Luck | M37: Beavers | N37: 24 | O37: 1.4166667 | Q37: Joses Idehen | R37: Frabakah Elite | S37: 17 | T37: 1.4117647

Sheet Leaders
B1: Division 1 League Leader Totals
B3: Points | G3: Rebounds | L3: Assists | Q3: Steals
B4: Name | C4: Team | D4: Games | E4: PTS | G4: Name | H4: Team | I4: Games | J4: REB | L4: Name | M4: Team | N4: Games | O4: AST | Q4: Name | R4: Team | S4: Games | T4: STL
A5: 1 | B5: Nicol Bolos | C5: The Bucket Warehouse | D5: 30 | E5: 517 | G5: Nicol Bolos | H5: The Bucket Warehouse | I5: 30 | J5: 265 | L5: Toby Conroy | M5: Hawks | N5: 24 | O5: 143 | Q5: Anthony Pronin | R5: Cannons | S5: 24 | T5: 72
A6: 2 | B6: Josh Buchaniec | C6: Phantoms | D6: 27 | E6: 489 | G6: Mooch Jones | H6: Cannons | I6: 32 | J6: 229 | L6: Aaron Coddington | M6: Hawks | N6: 24 | O6: 103 | Q6: Aaron McMillan | R6: Cannons | S6: 32 | T6: 62
A7: 3 | B7: Alex Tumurbaatar | C7: Goldenlight Warriors | D7: 26 | E7: 395 | G7: Bryan Neequaye | H7: Frabakah Elite | I7: 30 | J7: 227 | L7: Mitch Brown | M7: Beavers | N7: 29 | O7: 102 | Q7: Nicol Bolos | R7: The Bucket Warehouse | S7: 30 | T7: 54
A8: 4 | B8: Clarence Revilla | C8: Frabakah Elite | D8: 31 | E8: 356 | G8: Jono Miller | H8: Cannons | I8: 22 | J8: 215 | L8: Zac Brill-Luck | M8: Beavers | N8: 24 | O8: 102 | Q8: Clarence Revilla | R8: Frabakah Elite | S8: 31 | T8: 53
A9: 5 | B9: Isaac Plunkett | C9: Hawks | D9: 28 | E9: 344 | G9: Flynn Attard | H9: Goldenlight Warriors | I9: 29 | J9: 215 | L9: Gabe Haynes | M9: Cannons | N9: 29 | O9: 99 | Q9: Tuvshinbagana Munkhjargal | R9: Goldenlight Warriors | S9: 28 | T9: 45
A10: 6 | B10: Batadorj Ganbaatar | C10: Goldenlight Warriors | D10: 27 | E10: 310 | G10: Batadorj Ganbaatar | H10: Goldenlight Warriors | I10: 27 | J10: 204 | L10: Clarence Revilla | M10: Frabakah Elite | N10: 31 | O10: 97 | Q10: Alex Tumurbaatar | R10: Goldenlight Warriors | S10: 26 | T10: 45
A11: 7 | B11: Michael Ashton | C11: Hawks | D11: 26 | E11: 306 | G11: Clarence Revilla | H11: Frabakah Elite | I11: 31 | J11: 194 | L11: Blake Richards | M11: Phantoms | N11: 16 | O11: 90 | Q11: Luke Taunton-Stelzner | R11: Cannons | S11: 31 | T11: 43
A12: 8 | B12: Trystan Zafico | C12: The Bucket Warehouse | D12: 22 | E12: 293 | G12: Andrew Bawden | H12: Phantoms | I12: 26 | J12: 180 | L12: John Southwell | M12: Cannons | N12: 28 | O12: 86 | Q12: Mitch Brown | R12: Beavers | S12: 29 | T12: 41
A13: 9 | B13: Anthony Pronin | C13: Cannons | D13: 24 | E13: 289 | G13: Michael Ashton | H13: Hawks | I13: 26 | J13: 174 | L13: Nicol Bolos | M13: The Bucket Warehouse | N13: 30 | O13: 86 | Q13: Toby Conroy | R13: Hawks | S13: 24 | T13: 41
A14: 10 | B14: Jono Miller | C14: Cannons | D14: 22 | E14: 279 | G14: Alex Tumurbaatar | H14: Goldenlight Warriors | I14: 26 | J14: 171 | L14: Brendan Hoang | M14: Pork Swords | N14: 27 | O14: 85 | Q14: Andrew Bawden | R14: Phantoms | S14: 26 | T14: 39
A15: 11 | B15: Erkhtur Erdenebileg | C15: Goldenlight Warriors | D15: 24 | E15: 270 | G15: Ryan Crowe | H15: Frabakah Elite | I15: 32 | J15: 168 | L15: Anthony Pronin | M15: Cannons | N15: 24 | O15: 83 | Q15: Jono Miller | R15: Cannons | S15: 22 | T15: 36
A16: 12 | B16: Toby Conroy | C16: Hawks | D16: 24 | E16: 266 | G16: Eric Malcolm | H16: Hawks | I16: 24 | J16: 168 | L16: Alex Tumurbaatar | M16: Goldenlight Warriors | N16: 26 | O16: 81 | Q16: Arjun Rao | R16: The Bucket Warehouse | S16: 22 | T16: 32
... A19: 15 | B19: Luke Taunton-Stelzner | C19: Cannons | D19: 31 | E19: 253 | G19: Joshua Barclay | H19: Beavers | I19: 26 | J19: 157 | L19: Declan Kain | M19: Pork Swords | N19: 17 | O19: 69 | Q19: Batadorj Ganbaatar | R19: Goldenlight Warriors | S19: 27 | T19: 31
B21: Blocks | G21: Fouls | L21: 3 Pointers | Q21: Free throws
B22: Name | C22: Team | D22: Games | E22: BLK | G22: Name | H22: Team | I22: Games | J22: PFS | L22: Name | M22: Team | N22: Games | O22: 3P | Q22: Name | R22: Team | S22: Games | T22: FT
A23: 1 | B23: Flynn Attard | C23: Goldenlight Warriors | D23: 29 | E23: 36 | G23: Alex Tumurbaatar | H23: Goldenlight Warriors | I23: 26 | J23: 78 | L23: Isaac Plunkett | M23: Hawks | N23: 28 | O23: 86 | Q23: Alex Tumurbaatar | R23: Goldenlight Warriors | S23: 26 | T23: 73
A24: 2 | B24: Mooch Jones | C24: Cannons | D24: 32 | E24: 32 | G24: Batadorj Ganbaatar | H24: Goldenlight Warriors | I24: 27 | J24: 69 | L24: Josh Buchaniec | M24: Phantoms | N24: 27 | O24: 85 | Q24: Anthony Pronin | R24: Cannons | S24: 24 | T24: 58
A25: 3 | B25: Toby Hannan | C25: The Bucket Warehouse | D25: 22 | E25: 28 | G25: Andrew Bawden | H25: Phantoms | I25: 26 | J25: 68 | L25: Nicol Bolos | M25: The Bucket Warehouse | N25: 30 | O25: 77 | Q25: Brendan Hoang | R25: Pork Swords | S25: 27 | T25: 56
A26: 4 | B26: Andrew Bawden | C26: Phantoms | D26: 26 | E26: 24 | G26: Bryan Neequaye | H26: Frabakah Elite | I26: 30 | J26: 62 | L26: Erkhtur Erdenebileg | M26: Goldenlight Warriors | N26: 24 | O26: 71 | Q26: Josh Buchaniec | R26: Phantoms | S26: 27 | T26: 48
A27: 5 | B27: Ryan Crowe | C27: Frabakah Elite | D27: 32 | E27: 22 | G27: Aaron McMillan | H27: Cannons | I27: 32 | J27: 62 | L27: Mitch Brown | M27: Beavers | N27: 29 | O27: 65 | Q27: Nicol Bolos | R27: The Bucket Warehouse | S27: 30 | T27: 46
A28: 6 | B28: Jono Miller | C28: Cannons | D28: 22 | E28: 22 | G28: Mooch Jones | H28: Cannons | I28: 32 | J28: 60 | L28: Jake Saunders | M28: Pork Swords | N28: 14 | O28: 62 | Q28: Clarence Revilla | R28: Frabakah Elite | S28: 31 | T28: 45
A29: 7 | B29: Michael Ashton | C29: Hawks | D29: 26 | E29: 22 | G29: Anthony Pronin | H29: Cannons | I29: 24 | J29: 57 | L29: Clarence Revilla | M29: Frabakah Elite | N29: 31 | O29: 47 | Q29: Jono Miller | R29: Cannons | S29: 22 | T29: 45
A30: 8 | B30: Joshua Barclay | C30: Beavers | D30: 26 | E30: 19 | G30: Tuvshinbagana Munkhjargal | H30: Goldenlight Warriors | I30: 28 | J30: 54 | L30: Trystan Zafico | M30: The Bucket Warehouse | N30: 22 | O30: 46 | Q30: Dennis Khanthavivone | R30: Hawks | S30: 25 | T30: 45
A31: 9 | B31: Justin Mesman | C31: Pork Swords | D31: 20 | E31: 19 | G31: Steven Favell | H31: Beavers | I31: 31 | J31: 49 | L31: Steven Barclay | M31: Beavers | N31: 24 | O31: 39 | Q31: Aaron McMillan | R31: Cannons | S31: 32 | T31: 42
A32: 10 | B32: Matt Lowden | C32: The Bucket Warehouse | D32: 24 | E32: 18 | G32: Toby Hannan | H32: The Bucket Warehouse | I32: 22 | J32: 49 | L32: Sam Bates | M32: Pork Swords | N32: 16 | O32: 39 | Q32: Batadorj Ganbaatar | R32: Goldenlight Warriors | S32: 27 | T32: 42
A33: 11 | B33: Kai Grant | C33: Phantoms | D33: 18 | E33: 16 | G33: Flynn Attard | H33: Goldenlight Warriors | I33: 29 | J33: 47 | L33: Brynn Williams | M33: Pork Swords | N33: 17 | O33: 38 | Q33: Sid Street | R33: Pork Swords | S33: 26 | T33: 42
A34: 12 | B34: Jordan Sembel | C34: Pork Swords | D34: 23 | E34: 16 | G34: Lachlan French | H34: Frabakah Elite | I34: 31 | J34: 44 | L34: Isaac Maher | M34: The Bucket Warehouse | N34: 13 | O34: 37 | Q34: Michael Ashton | R34: Hawks | S34: 26 | T34: 41
... A37: 15 | B37: Steven Favell | C37: Beavers | D37: 31 | E37: 10 | G37: Sam Branch | H37: The Bucket Warehouse | I37: 27 | J37: 42 | L37: Zac Brill-Luck | M37: Beavers | N37: 24 | O37: 34 | Q37: Toby Conroy | R37: Hawks | S37: 24 | T37: 33

Sheet Beavers
A1: minimum 13 games required for finals eligibility
A2: Beavers | Q2: Beavers
A3: Players | B3: Games Played | C3: FG | D3: 3P | E3: FT | F3: REB | G3: AST | H3: STL | I3: BLK | J3: PFS | K3: TFS | L3: UFS | M3: PTS | N3: Injury Attendance | O3: Game eligibility | P3: CPR | R3: Poistive | S3: Negative
A4: Steven Favell | B4: 31 | C4: 65 | D4: 1 | E4: 22 | F4: 150 | G4: 27 | H4: 17 | I4: 10 | J4: 49 | K4: 0 | L4: 0 | M4: 155 | N4: =VLOOKUP(A4,Games!$A$2:$D$527,3,FALSE) -> 0 | O4: =VLOOKUP(A4,Games!$A$2:$D$527,4,FALSE) -> 31 | P4: =(R4-S4)/B4 -> 8.8548387 | R4: =SUM(M4,I4,H4,(G4*1.5),F4) -> 372.5 | S4: =SUM((J4*2),(K4*3),(L4*4)) -> 98 | T4: =IFERROR(VLOOKUP(A4,Games!$I$2:$I$246,1,FALSE)," ")
A5: Mitch Brown | B5: 29 | C5: 22 | D5: 65 | E5: 18 | F5: 120 | G5: 102 | H5: 41 | I5: 5 | J5: 33 | K5: 1 | L5: 0 | M5: 257 | N5: =VLOOKUP(A5,Games!$A$2:$D$527,3,FALSE) -> 0 | O5: =VLOOKUP(A5,Games!$A$2:$D$527,4,FALSE) -> 29 | P5: =(R5-S5)/B5 -> 17.482759 | R5: =SUM(M5,I5,H5,(G5*1.5),F5) -> 576 | S5: =SUM((J5*2),(K5*3),(L5*4)) -> 69 | T5: =IFERROR(VLOOKUP(A5,Games!$I$2:$I$246,1,FALSE)," ")
A6: Joshua Barclay | B6: 26 | C6: 118 | D6: 0 | E6: 18 | F6: 157 | G6: 32 | H6: 16 | I6: 19 | J6: 28 | K6: 0 | L6: 0 | M6: 254 | N6: =VLOOKUP(A6,Games!$A$2:$D$527,3,FALSE) -> 1 | O6: =VLOOKUP(A6,Games!$A$2:$D$527,4,FALSE) -> 27 | P6: =(R6-S6)/B6 -> 16.846154 | R6: =SUM(M6,I6,H6,(G6*1.5),F6) -> 494 | S6: =SUM((J6*2),(K6*3),(L6*4)) -> 56 | T6: =IFERROR(VLOOKUP(A6,Games!$I$2:$I$246,1,FALSE)," ")
A7: Zac Brill-Luck | B7: 24 | C7: 55 | D7: 34 | E7: 30 | F7: 150 | G7: 102 | H7: 27 | I7: 3 | J7: 27 | K7: 0 | L7: 0 | M7: 242 | N7: =VLOOKUP(A7,Games!$A$2:$D$527,3,FALSE) -> 0 | O7: =VLOOKUP(A7,Games!$A$2:$D$527,4,FALSE) -> 24 | P7: =(R7-S7)/B7 -> 21.708333 | R7: =SUM(M7,I7,H7,(G7*1.5),F7) -> 575 | S7: =SUM((J7*2),(K7*3),(L7*4)) -> 54 | T7: =IFERROR(VLOOKUP(A7,Games!$I$2:$I$246,1,FALSE)," ")
A8: Steven Barclay | B8: 24 | C8: 59 | D8: 39 | E8: 14 | F8: 75 | G8: 53 | H8: 16 | I8: 0 | J8: 32 | K8: 0 | L8: 0 | M8: 249 | N8: =VLOOKUP(A8,Games!$A$2:$D$527,3,FALSE) -> 0 | O8: =VLOOKUP(A8,Games!$A$2:$D$527,4,FALSE) -> 24 | P8: =(R8-S8)/B8 -> 14.8125 | R8: =SUM(M8,I8,H8,(G8*1.5),F8) -> 419.5 | S8: =SUM((J8*2),(K8*3),(L8*4)) -> 64 | T8: =IFERROR(VLOOKUP(A8,Games!$I$2:$I$246,1,FALSE)," ")
A9: Leif Nilsson | B9: 24 | C9: 13 | D9: 8 | E9: 2 | F9: 55 | G9: 16 | H9: 23 | I9: 9 | J9: 35 | K9: 0 | L9: 0 | M9: 52 | N9: =VLOOKUP(A9,Games!$A$2:$D$527,3,FALSE) -> 0 | O9: =VLOOKUP(A9,Games!$A$2:$D$527,4,FALSE) -> 24 | P9: =(R9-S9)/B9 -> 3.875 | R9: =SUM(M9,I9,H9,(G9*1.5),F9) -> 163 | S9: =SUM((J9*2),(K9*3),(L9*4)) -> 70 | T9: =IFERROR(VLOOKUP(A9,Games!$I$2:$I$246,1,FALSE)," ")
A10: Steve Le Cerf | B10: 17 | C10: 29 | D10: 3 | E10: 2 | F10: 52 | G10: 32 | H10: 10 | I10: 3 | J10: 23 | K10: 0 | L10: 0 | M10: 69 | N10: =VLOOKUP(A10,Games!$A$2:$D$527,3,FALSE) -> 2 | O10: =VLOOKUP(A10,Games!$A$2:$D$527,4,FALSE) -> 19 | P10: =(R10-S10)/B10 -> 8 | R10: =SUM(M10,I10,H10,(G10*1.5),F10) -> 182 | S10: =SUM((J10*2),(K10*3),(L10*4)) -> 46 | T10: =IFERROR(VLOOKUP(A10,Games!$I$2:$I$246,1,FALSE)," ")
A11: Dave Peters | B11: 17 | C11: 12 | D11: 36 | E11: 3 | F11: 45 | G11: 12 | H11: 13 | I11: 0 | J11: 29 | K11: 0 | L11: 0 | M11: 135 | N11: =VLOOKUP(A11,Games!$A$2:$D$527,3,FALSE) -> 0 | O11: =VLOOKUP(A11,Games!$A$2:$D$527,4,FALSE) -> 17 | P11: =(R11-S11)/B11 -> 9 | R11: =SUM(M11,I11,H11,(G11*1.5),F11) -> 211 | S11: =SUM((J11*2),(K11*3),(L11*4)) -> 58 | T11: =IFERROR(VLOOKUP(A11,Games!$I$2:$I$246,1,FALSE)," ")
A12: Che Peters | B12: 11 | C12: 5 | D12: 22 | E12: 1 | F12: 21 | G12: 24 | H12: 10 | I12: 2 | J12: 7 | K12: 0 | L12: 0 | M12: 77 | N12: =VLOOKUP(A12,Games!$A$2:$D$527,3,FALSE) -> 0 | O12: =VLOOKUP(A12,Games!$A$2:$D$527,4,FALSE) -> 11 | P12: =(R12-S12)/B12 -> 12 | R12: =SUM(M12,I12,H12,(G12*1.5),F12) -> 146 | S12: =SUM((J12*2),(K12*3),(L12*4)) -> 14 | T12: =IFERROR(VLOOKUP(A12,Games!$I$2:$I$246,1,FALSE)," ")
A13: Daniel Jones | B13: 8 | C13: 15 | D13: 1 | E13: 6 | F13: 42 | G13: 10 | H13: 4 | I13: 1 | J13: 25 | K13: 0 | L13: 0 | M13: 39 | N13: =VLOOKUP(A13,Games!$A$2:$D$527,3,FALSE) -> 1 | O13: =VLOOKUP(A13,Games!$A$2:$D$527,4,FALSE) -> 9 | P13: =(R13-S13)/B13 -> 6.375 | R13: =SUM(M13,I13,H13,(G13*1.5),F13) -> 101 | S13: =SUM((J13*2),(K13*3),(L13*4)) -> 50 | T13: =IFERROR(VLOOKUP(A13,Games!$I$2:$I$246,1,FALSE)," ")
A14: Adam Gavanich | B14: 7 | C14: 26 | D14: 2 | E14: 1 | F14: 57 | G14: 12 | H14: 8 | I14: 1 | J14: 15 | K14: 0 | L14: 0 | M14: 59 | N14: =VLOOKUP(A14,Games!$A$2:$D$527,3,FALSE) -> 0 | O14: =VLOOKUP(A14,Games!$A$2:$D$527,4,FALSE) -> 7 | P14: =(R14-S14)/B14 -> 16.142857 | R14: =SUM(M14,I14,H14,(G14*1.5),F14) -> 143 | S14: =SUM((J14*2),(K14*3),(L14*4)) -> 30 | T14: =IFERROR(VLOOKUP(A14,Games!$I$2:$I$246,1,FALSE)," ")
A15: Jason Dymowski | B15: 5 | C15: 6 | D15: 1 | E15: 2 | F15: 33 | G15: 12 | H15: 1 | I15: 3 | J15: 9 | K15: 0 | L15: 0 | M15: 17 | N15: =VLOOKUP(A15,Games!$A$2:$D$527,3,FALSE) -> 0 | O15: =VLOOKUP(A15,Games!$A$2:$D$527,4,FALSE) -> 5 | P15: =(R15-S15)/B15 -> 10.8 | R15: =SUM(M15,I15,H15,(G15*1.5),F15) -> 72 | S15: =SUM((J15*2),(K15*3),(L15*4)) -> 18 | T15: =IFERROR(VLOOKUP(A15,Games!$I$2:$I$246,1,FALSE)," ")
... A20: Rob Gibson | B20: 1 | C20: 1 | D20: 2 | E20: 0 | F20: 6 | G20: 1 | H20: 0 | I20: 0 | J20: 2 | K20: 0 | L20: 0 | M20: 8 | N20: =VLOOKUP(A20,Games!$A$2:$D$527,3,FALSE) -> 0 | O20: =VLOOKUP(A20,Games!$A$2:$D$527,4,FALSE) -> 1 | P20: =(R20-S20)/B20 -> 11.5 | R20: =SUM(M20,I20,H20,(G20*1.5),F20) -> 15.5 | S20: =SUM((J20*2),(K20*3),(L20*4)) -> 4 | T20: =IFERROR(VLOOKUP(A20,Games!$I$2:$I$246,1,FALSE)," ")
A22: Averages
A23: Beavers
A24: Players | B24: Games Played | C24: FG | D24: 3P | E24: FT | F24: REB | G24: AST | H24: STL | I24: BLK | J24: PFS | K24: TFS | L24: UFS | M24: PTS
A25: =IF(A4=""," ",A4) -> Steven Favell | C25: =IF(ISNUMBER($B4),C4/$B4," ") -> 2.0967742 | D25: =IF(ISNUMBER($B4),D4/$B4," ") -> 0.032258065 | E25: =IF(ISNUMBER($B4),E4/$B4," ") -> 0.70967742 | F25: =IF(ISNUMBER($B4),F4/$B4," ") -> 4.8387097 | G25: =IF(ISNUMBER($B4),G4/$B4," ") -> 0.87096774 | H25: =IF(ISNUMBER($B4),H4/$B4," ") -> 0.5483871 | I25: =IF(ISNUMBER($B4),I4/$B4," ") -> 0.32258065 | J25: =IF(ISNUMBER($B4),J4/$B4," ") -> 1.5806452 | ... M25: =IF(ISNUMBER($B4),M4/$B4," ") -> 5
A26: =IF(A5=""," ",A5) -> Mitch Brown | C26: =IF(ISNUMBER($B5),C5/$B5," ") -> 0.75862069 | D26: =IF(ISNUMBER($B5),D5/$B5," ") -> 2.2413793 | E26: =IF(ISNUMBER($B5),E5/$B5," ") -> 0.62068966 | F26: =IF(ISNUMBER($B5),F5/$B5," ") -> 4.137931 | G26: =IF(ISNUMBER($B5),G5/$B5," ") -> 3.5172414 | H26: =IF(ISNUMBER($B5),H5/$B5," ") -> 1.4137931 | I26: =IF(ISNUMBER($B5),I5/$B5," ") -> 0.17241379 | J26: =IF(ISNUMBER($B5),J5/$B5," ") -> 1.137931 | ... M26: =IF(ISNUMBER($B5),M5/$B5," ") -> 8.862069
A27: =IF(A6=""," ",A6) -> Joshua Barclay | C27: =IF(ISNUMBER($B6),C6/$B6," ") -> 4.5384615 | D27: =IF(ISNUMBER($B6),D6/$B6," ") -> 0 | E27: =IF(ISNUMBER($B6),E6/$B6," ") -> 0.69230769 | F27: =IF(ISNUMBER($B6),F6/$B6," ") -> 6.0384615 | G27: =IF(ISNUMBER($B6),G6/$B6," ") -> 1.2307692 | H27: =IF(ISNUMBER($B6),H6/$B6," ") -> 0.61538462 | I27: =IF(ISNUMBER($B6),I6/$B6," ") -> 0.73076923 | J27: =IF(ISNUMBER($B6),J6/$B6," ") -> 1.0769231 | ... M27: =IF(ISNUMBER($B6),M6/$B6," ") -> 9.7692308
A28: =IF(A7=""," ",A7) -> Zac Brill-Luck | C28: =IF(ISNUMBER($B7),C7/$B7," ") -> 2.2916667 | D28: =IF(ISNUMBER($B7),D7/$B7," ") -> 1.4166667 | E28: =IF(ISNUMBER($B7),E7/$B7," ") -> 1.25 | F28: =IF(ISNUMBER($B7),F7/$B7," ") -> 6.25 | G28: =IF(ISNUMBER($B7),G7/$B7," ") -> 4.25 | H28: =IF(ISNUMBER($B7),H7/$B7," ") -> 1.125 | I28: =IF(ISNUMBER($B7),I7/$B7," ") -> 0.125 | J28: =IF(ISNUMBER($B7),J7/$B7," ") -> 1.125 | ... M28: =IF(ISNUMBER($B7),M7/$B7," ") -> 10.083333
A29: =IF(A8=""," ",A8) -> Steven Barclay | C29: =IF(ISNUMBER($B8),C8/$B8," ") -> 2.4583333 | D29: =IF(ISNUMBER($B8),D8/$B8," ") -> 1.625 | E29: =IF(ISNUMBER($B8),E8/$B8," ") -> 0.58333333 | F29: =IF(ISNUMBER($B8),F8/$B8," ") -> 3.125 | G29: =IF(ISNUMBER($B8),G8/$B8," ") -> 2.2083333 | H29: =IF(ISNUMBER($B8),H8/$B8," ") -> 0.66666667 | I29: =IF(ISNUMBER($B8),I8/$B8," ") -> 0 | J29: =IF(ISNUMBER($B8),J8/$B8," ") -> 1.3333333 | ... M29: =IF(ISNUMBER($B8),M8/$B8," ") -> 10.375
A30: =IF(A9=""," ",A9) -> Leif Nilsson | C30: =IF(ISNUMBER($B9),C9/$B9," ") -> 0.54166667 | D30: =IF(ISNUMBER($B9),D9/$B9," ") -> 0.33333333 | E30: =IF(ISNUMBER($B9),E9/$B9," ") -> 0.083333333 | F30: =IF(ISNUMBER($B9),F9/$B9," ") -> 2.2916667 | G30: =IF(ISNUMBER($B9),G9/$B9," ") -> 0.66666667 | H30: =IF(ISNUMBER($B9),H9/$B9," ") -> 0.95833333 | I30: =IF(ISNUMBER($B9),I9/$B9," ") -> 0.375 | J30: =IF(ISNUMBER($B9),J9/$B9," ") -> 1.4583333 | ... M30: =IF(ISNUMBER($B9),M9/$B9," ") -> 2.1666667
A31: =IF(A10=""," ",A10) -> Steve Le Cerf | C31: =IF(ISNUMBER($B10),C10/$B10," ") -> 1.7058824 | D31: =IF(ISNUMBER($B10),D10/$B10," ") -> 0.17647059 | E31: =IF(ISNUMBER($B10),E10/$B10," ") -> 0.11764706 | F31: =IF(ISNUMBER($B10),F10/$B10," ") -> 3.0588235 | G31: =IF(ISNUMBER($B10),G10/$B10," ") -> 1.8823529 | H31: =IF(ISNUMBER($B10),H10/$B10," ") -> 0.58823529 | I31: =IF(ISNUMBER($B10),I10/$B10," ") -> 0.17647059 | J31: =IF(ISNUMBER($B10),J10/$B10," ") -> 1.3529412 | ... M31: =IF(ISNUMBER($B10),M10/$B10," ") -> 4.0588235
A32: =IF(A11=""," ",A11) -> Dave Peters | C32: =IF(ISNUMBER($B11),C11/$B11," ") -> 0.70588235 | D32: =IF(ISNUMBER($B11),D11/$B11," ") -> 2.1176471 | E32: =IF(ISNUMBER($B11),E11/$B11," ") -> 0.17647059 | F32: =IF(ISNUMBER($B11),F11/$B11," ") -> 2.6470588 | G32: =IF(ISNUMBER($B11),G11/$B11," ") -> 0.70588235 | H32: =IF(ISNUMBER($B11),H11/$B11," ") -> 0.76470588 | I32: =IF(ISNUMBER($B11),I11/$B11," ") -> 0 | J32: =IF(ISNUMBER($B11),J11/$B11," ") -> 1.7058824 | ... M32: =IF(ISNUMBER($B11),M11/$B11," ") -> 7.9411765
A33: =IF(A12=""," ",A12) -> Che Peters | C33: =IF(ISNUMBER($B12),C12/$B12," ") -> 0.45454545 | D33: =IF(ISNUMBER($B12),D12/$B12," ") -> 2 | E33: =IF(ISNUMBER($B12),E12/$B12," ") -> 0.090909091 | F33: =IF(ISNUMBER($B12),F12/$B12," ") -> 1.9090909 | G33: =IF(ISNUMBER($B12),G12/$B12," ") -> 2.1818182 | H33: =IF(ISNUMBER($B12),H12/$B12," ") -> 0.90909091 | I33: =IF(ISNUMBER($B12),I12/$B12," ") -> 0.18181818 | J33: =IF(ISNUMBER($B12),J12/$B12," ") -> 0.63636364 | ... M33: =IF(ISNUMBER($B12),M12/$B12," ") -> 7
A34: =IF(A13=""," ",A13) -> Daniel Jones | C34: =IF(ISNUMBER($B13),C13/$B13," ") -> 1.875 | D34: =IF(ISNUMBER($B13),D13/$B13," ") -> 0.125 | E34: =IF(ISNUMBER($B13),E13/$B13," ") -> 0.75 | F34: =IF(ISNUMBER($B13),F13/$B13," ") -> 5.25 | G34: =IF(ISNUMBER($B13),G13/$B13," ") -> 1.25 | H34: =IF(ISNUMBER($B13),H13/$B13," ") -> 0.5 | I34: =IF(ISNUMBER($B13),I13/$B13," ") -> 0.125 | J34: =IF(ISNUMBER($B13),J13/$B13," ") -> 3.125 | ... M34: =IF(ISNUMBER($B13),M13/$B13," ") -> 4.875
A35: =IF(A14=""," ",A14) -> Adam Gavanich | C35: =IF(ISNUMBER($B14),C14/$B14," ") -> 3.7142857 | D35: =IF(ISNUMBER($B14),D14/$B14," ") -> 0.28571429 | E35: =IF(ISNUMBER($B14),E14/$B14," ") -> 0.14285714 | F35: =IF(ISNUMBER($B14),F14/$B14," ") -> 8.1428571 | G35: =IF(ISNUMBER($B14),G14/$B14," ") -> 1.7142857 | H35: =IF(ISNUMBER($B14),H14/$B14," ") -> 1.1428571 | I35: =IF(ISNUMBER($B14),I14/$B14," ") -> 0.14285714 | J35: =IF(ISNUMBER($B14),J14/$B14," ") -> 2.1428571 | ... M35: =IF(ISNUMBER($B14),M14/$B14," ") -> 8.4285714
A36: =IF(A15=""," ",A15) -> Jason Dymowski | C36: =IF(ISNUMBER($B15),C15/$B15," ") -> 1.2 | D36: =IF(ISNUMBER($B15),D15/$B15," ") -> 0.2 | E36: =IF(ISNUMBER($B15),E15/$B15," ") -> 0.4 | F36: =IF(ISNUMBER($B15),F15/$B15," ") -> 6.6 | G36: =IF(ISNUMBER($B15),G15/$B15," ") -> 2.4 | H36: =IF(ISNUMBER($B15),H15/$B15," ") -> 0.2 | I36: =IF(ISNUMBER($B15),I15/$B15," ") -> 0.6 | J36: =IF(ISNUMBER($B15),J15/$B15," ") -> 1.8 | ... M36: =IF(ISNUMBER($B15),M15/$B15," ") -> 3.4
... A41: =IF(A20=""," ",A20) -> Rob Gibson | C41: =IF(ISNUMBER($B20),C20/$B20," ") -> 1 | D41: =IF(ISNUMBER($B20),D20/$B20," ") -> 2 | E41: =IF(ISNUMBER($B20),E20/$B20," ") -> 0 | F41: =IF(ISNUMBER($B20),F20/$B20," ") -> 6 | G41: =IF(ISNUMBER($B20),G20/$B20," ") -> 1 | H41: =IF(ISNUMBER($B20),H20/$B20," ") -> 0 | I41: =IF(ISNUMBER($B20),I20/$B20," ") -> 0 | J41: =IF(ISNUMBER($B20),J20/$B20," ") -> 2 | ... M41: =IF(ISNUMBER($B20),M20/$B20," ") -> 8

Sheet Cannons
A1: minimum 13 games required for finals eligibility
A2: Cannons | Q2: Cannons
A3: Players | B3: Games Played | C3: FG | D3: 3P | E3: FT | F3: REB | G3: AST | H3: STL | I3: BLK | J3: PFS | K3: TFS | L3: UFS | M3: PTS | N3: Injury Attendance | O3: Game eligibility | P3: CPR | R3: Poistive | S3: Negative
A4: Mooch Jones | B4: 32 | C4: 84 | D4: 0 | E4: 35 | F4: 229 | G4: 25 | H4: 16 | I4: 32 | J4: 60 | K4: 0 | L4: 0 | M4: 203 | N4: =VLOOKUP(A4,Games!$A$2:$D$527,3,FALSE) -> 0 | O4: =VLOOKUP(A4,Games!$A$2:$D$527,4,FALSE) -> 32 | P4: =(R4-S4)/B4 -> 12.421875 | R4: =SUM(M4,I4,H4,(G4*1.5),F4) -> 517.5 | S4: =SUM((J4*2),(K4*3),(L4*4)) -> 120 | T4: =IFERROR(VLOOKUP(A4,Games!$I$2:$I$246,1,FALSE)," ")
A5: Aaron McMillan | B5: 32 | C5: 68 | D5: 1 | E5: 42 | F5: 148 | G5: 65 | H5: 62 | I5: 4 | J5: 62 | K5: 0 | L5: 0 | M5: 181 | N5: =VLOOKUP(A5,Games!$A$2:$D$527,3,FALSE) -> 0 | O5: =VLOOKUP(A5,Games!$A$2:$D$527,4,FALSE) -> 32 | P5: =(R5-S5)/B5 -> 11.515625 | R5: =SUM(M5,I5,H5,(G5*1.5),F5) -> 492.5 | S5: =SUM((J5*2),(K5*3),(L5*4)) -> 124 | T5: =IFERROR(VLOOKUP(A5,Games!$I$2:$I$246,1,FALSE)," ")
A6: Luke Taunton-Stelzner | B6: 31 | C6: 98 | D6: 16 | E6: 9 | F6: 133 | G6: 33 | H6: 43 | I6: 8 | J6: 33 | K6: 0 | L6: 0 | M6: 253 | N6: =VLOOKUP(A6,Games!$A$2:$D$527,3,FALSE) -> 0 | O6: =VLOOKUP(A6,Games!$A$2:$D$527,4,FALSE) -> 31 | P6: =(R6-S6)/B6 -> 13.564516 | R6: =SUM(M6,I6,H6,(G6*1.5),F6) -> 486.5 | S6: =SUM((J6*2),(K6*3),(L6*4)) -> 66 | T6: =IFERROR(VLOOKUP(A6,Games!$I$2:$I$246,1,FALSE)," ") -> Luke Taunton-Stelzner
A7: Gabe Haynes | B7: 29 | C7: 80 | D7: 0 | E7: 8 | F7: 88 | G7: 99 | H7: 30 | I7: 0 | J7: 28 | K7: 0 | L7: 1 | M7: 168 | N7: =VLOOKUP(A7,Games!$A$2:$D$527,3,FALSE) -> 0 | O7: =VLOOKUP(A7,Games!$A$2:$D$527,4,FALSE) -> 29 | P7: =(R7-S7)/B7 -> 12.913793 | R7: =SUM(M7,I7,H7,(G7*1.5),F7) -> 434.5 | S7: =SUM((J7*2),(K7*3),(L7*4)) -> 60 | T7: =IFERROR(VLOOKUP(A7,Games!$I$2:$I$246,1,FALSE)," ")
A8: John Southwell | B8: 28 | C8: 35 | D8: 9 | E8: 11 | F8: 73 | G8: 86 | H8: 30 | I8: 3 | J8: 11 | K8: 1 | L8: 1 | M8: 108 | N8: =VLOOKUP(A8,Games!$A$2:$D$527,3,FALSE) -> 3 | O8: =VLOOKUP(A8,Games!$A$2:$D$527,4,FALSE) -> 31 | P8: =(R8-S8)/B8 -> 11.214286 | R8: =SUM(M8,I8,H8,(G8*1.5),F8) -> 343 | S8: =SUM((J8*2),(K8*3),(L8*4)) -> 29 | T8: =IFERROR(VLOOKUP(A8,Games!$I$2:$I$246,1,FALSE)," ")
A9: Anthony Pronin | B9: 24 | C9: 66 | D9: 33 | E9: 58 | F9: 110 | G9: 83 | H9: 72 | I9: 3 | J9: 57 | K9: 1 | L9: 0 | M9: 289 | N9: =VLOOKUP(A9,Games!$A$2:$D$527,3,FALSE) -> 1 | O9: =VLOOKUP(A9,Games!$A$2:$D$527,4,FALSE) -> 25 | P9: =(R9-S9)/B9 -> 20.0625 | R9: =SUM(M9,I9,H9,(G9*1.5),F9) -> 598.5 | S9: =SUM((J9*2),(K9*3),(L9*4)) -> 117 | T9: =IFERROR(VLOOKUP(A9,Games!$I$2:$I$246,1,FALSE)," ") -> Anthony Pronin
A10: Jono Miller | B10: 22 | C10: 75 | D10: 28 | E10: 45 | F10: 215 | G10: 66 | H10: 36 | I10: 22 | J10: 27 | K10: 0 | L10: 0 | M10: 279 | N10: =VLOOKUP(A10,Games!$A$2:$D$527,3,FALSE) -> 2 | O10: =VLOOKUP(A10,Games!$A$2:$D$527,4,FALSE) -> 24 | P10: =(R10-S10)/B10 -> 27.136364 | R10: =SUM(M10,I10,H10,(G10*1.5),F10) -> 651 | S10: =SUM((J10*2),(K10*3),(L10*4)) -> 54 | T10: =IFERROR(VLOOKUP(A10,Games!$I$2:$I$246,1,FALSE)," ")
A11: Dean Abbott | B11: 20 | C11: 10 | D11: 8 | E11: 2 | F11: 51 | G11: 25 | H11: 23 | I11: 2 | J11: 26 | K11: 1 | L11: 0 | M11: 46 | N11: =VLOOKUP(A11,Games!$A$2:$D$527,3,FALSE) -> 3 | O11: =VLOOKUP(A11,Games!$A$2:$D$527,4,FALSE) -> 23 | P11: =(R11-S11)/B11 -> 5.225 | R11: =SUM(M11,I11,H11,(G11*1.5),F11) -> 159.5 | S11: =SUM((J11*2),(K11*3),(L11*4)) -> 55 | T11: =IFERROR(VLOOKUP(A11,Games!$I$2:$I$246,1,FALSE)," ")
A12: Ariston Sillana | B12: 17 | C12: 54 | D12: 7 | E12: 6 | F12: 57 | G12: 27 | H12: 26 | I12: 2 | J12: 32 | K12: 0 | L12: 2 | M12: 135 | N12: =VLOOKUP(A12,Games!$A$2:$D$527,3,FALSE) -> 4 | O12: =VLOOKUP(A12,Games!$A$2:$D$527,4,FALSE) -> 21 | P12: =(R12-S12)/B12 -> 11.088235 | R12: =SUM(M12,I12,H12,(G12*1.5),F12) -> 260.5 | S12: =SUM((J12*2),(K12*3),(L12*4)) -> 72 | T12: =IFERROR(VLOOKUP(A12,Games!$I$2:$I$246,1,FALSE)," ")
A13: Jei Welsh | B13: 14 | C13: 34 | D13: 1 | E13: 8 | F13: 66 | G13: 4 | H13: 10 | I13: 4 | J13: 22 | K13: 0 | L13: 0 | M13: 79 | N13: =VLOOKUP(A13,Games!$A$2:$D$527,3,FALSE) -> 1 | O13: =VLOOKUP(A13,Games!$A$2:$D$527,4,FALSE) -> 15 | P13: =(R13-S13)/B13 -> 8.6428571 | R13: =SUM(M13,I13,H13,(G13*1.5),F13) -> 165 | S13: =SUM((J13*2),(K13*3),(L13*4)) -> 44 | T13: =IFERROR(VLOOKUP(A13,Games!$I$2:$I$246,1,FALSE)," ") -> Jei Welsh
R14: =SUM(M14,I14,H14,(G14*1.5),F14) -> 0 | S14: =SUM((J14*2),(K14*3),(L14*4)) -> 0 | T14: =IFERROR(VLOOKUP(A14,Games!$I$2:$I$246,1,FALSE)," ")
R15: =SUM(M15,I15,H15,(G15*1.5),F15) -> 0 | S15: =SUM((J15*2),(K15*3),(L15*4)) -> 0 | T15: =IFERROR(VLOOKUP(A15,Games!$I$2:$I$246,1,FALSE)," ")
R16: =SUM(M16,I16,H16,(G16*1.5),F16) -> 0 | S16: =SUM((J16*2),(K16*3),(L16*4)) -> 0 | T16: =IFERROR(VLOOKUP(A16,Games!$I$2:$I$246,1,FALSE)," ")
A17: Averages
A18: Cannons
A19: Players | B19: Games Played | C19: FG | D19: 3P | E19: FT | F19: REB | G19: AST | H19: STL | I19: BLK | J19: PFS | K19: TFS | L19: UFS | M19: PTS
A20: =IF(A4=""," ",A4) -> Mooch Jones | C20: =IF(ISNUMBER($B4),C4/$B4," ") -> 2.625 | D20: =IF(ISNUMBER($B4),D4/$B4," ") -> 0 | E20: =IF(ISNUMBER($B4),E4/$B4," ") -> 1.09375 | F20: =IF(ISNUMBER($B4),F4/$B4," ") -> 7.15625 | G20: =IF(ISNUMBER($B4),G4/$B4," ") -> 0.78125 | H20: =IF(ISNUMBER($B4),H4/$B4," ") -> 0.5 | I20: =IF(ISNUMBER($B4),I4/$B4," ") -> 1 | J20: =IF(ISNUMBER($B4),J4/$B4," ") -> 1.875 | ... M20: =IF(ISNUMBER($B4),M4/$B4," ") -> 6.34375
A21: =IF(A5=""," ",A5) -> Aaron McMillan | C21: =IF(ISNUMBER($B5),C5/$B5," ") -> 2.125 | D21: =IF(ISNUMBER($B5),D5/$B5," ") -> 0.03125 | E21: =IF(ISNUMBER($B5),E5/$B5," ") -> 1.3125 | F21: =IF(ISNUMBER($B5),F5/$B5," ") -> 4.625 | G21: =IF(ISNUMBER($B5),G5/$B5," ") -> 2.03125 | H21: =IF(ISNUMBER($B5),H5/$B5," ") -> 1.9375 | I21: =IF(ISNUMBER($B5),I5/$B5," ") -> 0.125 | J21: =IF(ISNUMBER($B5),J5/$B5," ") -> 1.9375 | ... M21: =IF(ISNUMBER($B5),M5/$B5," ") -> 5.65625
A22: =IF(A6=""," ",A6) -> Luke Taunton-Stelzner | C22: =IF(ISNUMBER($B6),C6/$B6," ") -> 3.1612903 | D22: =IF(ISNUMBER($B6),D6/$B6," ") -> 0.51612903 | E22: =IF(ISNUMBER($B6),E6/$B6," ") -> 0.29032258 | F22: =IF(ISNUMBER($B6),F6/$B6," ") -> 4.2903226 | G22: =IF(ISNUMBER($B6),G6/$B6," ") -> 1.0645161 | H22: =IF(ISNUMBER($B6),H6/$B6," ") -> 1.3870968 | I22: =IF(ISNUMBER($B6),I6/$B6," ") -> 0.25806452 | J22: =IF(ISNUMBER($B6),J6/$B6," ") -> 1.0645161 | ... M22: =IF(ISNUMBER($B6),M6/$B6," ") -> 8.1612903
A23: =IF(A7=""," ",A7) -> Gabe Haynes | C23: =IF(ISNUMBER($B7),C7/$B7," ") -> 2.7586207 | D23: =IF(ISNUMBER($B7),D7/$B7," ") -> 0 | E23: =IF(ISNUMBER($B7),E7/$B7," ") -> 0.27586207 | F23: =IF(ISNUMBER($B7),F7/$B7," ") -> 3.0344828 | G23: =IF(ISNUMBER($B7),G7/$B7," ") -> 3.4137931 | H23: =IF(ISNUMBER($B7),H7/$B7," ") -> 1.0344828 | I23: =IF(ISNUMBER($B7),I7/$B7," ") -> 0 | J23: =IF(ISNUMBER($B7),J7/$B7," ") -> 0.96551724 | ... M23: =IF(ISNUMBER($B7),M7/$B7," ") -> 5.7931034
A24: =IF(A8=""," ",A8) -> John Southwell | C24: =IF(ISNUMBER($B8),C8/$B8," ") -> 1.25 | D24: =IF(ISNUMBER($B8),D8/$B8," ") -> 0.32142857 | E24: =IF(ISNUMBER($B8),E8/$B8," ") -> 0.39285714 | F24: =IF(ISNUMBER($B8),F8/$B8," ") -> 2.6071429 | G24: =IF(ISNUMBER($B8),G8/$B8," ") -> 3.0714286 | H24: =IF(ISNUMBER($B8),H8/$B8," ") -> 1.0714286 | I24: =IF(ISNUMBER($B8),I8/$B8," ") -> 0.10714286 | J24: =IF(ISNUMBER($B8),J8/$B8," ") -> 0.39285714 | ... M24: =IF(ISNUMBER($B8),M8/$B8," ") -> 3.8571429
A25: =IF(A9=""," ",A9) -> Anthony Pronin | C25: =IF(ISNUMBER($B9),C9/$B9," ") -> 2.75 | D25: =IF(ISNUMBER($B9),D9/$B9," ") -> 1.375 | E25: =IF(ISNUMBER($B9),E9/$B9," ") -> 2.4166667 | F25: =IF(ISNUMBER($B9),F9/$B9," ") -> 4.5833333 | G25: =IF(ISNUMBER($B9),G9/$B9," ") -> 3.4583333 | H25: =IF(ISNUMBER($B9),H9/$B9," ") -> 3 | I25: =IF(ISNUMBER($B9),I9/$B9," ") -> 0.125 | J25: =IF(ISNUMBER($B9),J9/$B9," ") -> 2.375 | ... M25: =IF(ISNUMBER($B9),M9/$B9," ") -> 12.041667
A26: =IF(A10=""," ",A10) -> Jono Miller | C26: =IF(ISNUMBER($B10),C10/$B10," ") -> 3.4090909 | D26: =IF(ISNUMBER($B10),D10/$B10," ") -> 1.2727273 | E26: =IF(ISNUMBER($B10),E10/$B10," ") -> 2.0454545 | F26: =IF(ISNUMBER($B10),F10/$B10," ") -> 9.7727273 | G26: =IF(ISNUMBER($B10),G10/$B10," ") -> 3 | H26: =IF(ISNUMBER($B10),H10/$B10," ") -> 1.6363636 | I26: =IF(ISNUMBER($B10),I10/$B10," ") -> 1 | J26: =IF(ISNUMBER($B10),J10/$B10," ") -> 1.2272727 | ... M26: =IF(ISNUMBER($B10),M10/$B10," ") -> 12.681818
A27: =IF(A11=""," ",A11) -> Dean Abbott | C27: =IF(ISNUMBER($B11),C11/$B11," ") -> 0.5 | D27: =IF(ISNUMBER($B11),D11/$B11," ") -> 0.4 | E27: =IF(ISNUMBER($B11),E11/$B11," ") -> 0.1 | F27: =IF(ISNUMBER($B11),F11/$B11," ") -> 2.55 | G27: =IF(ISNUMBER($B11),G11/$B11," ") -> 1.25 | H27: =IF(ISNUMBER($B11),H11/$B11," ") -> 1.15 | I27: =IF(ISNUMBER($B11),I11/$B11," ") -> 0.1 | J27: =IF(ISNUMBER($B11),J11/$B11," ") -> 1.3 | ... M27: =IF(ISNUMBER($B11),M11/$B11," ") -> 2.3
A28: =IF(A12=""," ",A12) -> Ariston Sillana | C28: =IF(ISNUMBER($B12),C12/$B12," ") -> 3.1764706 | D28: =IF(ISNUMBER($B12),D12/$B12," ") -> 0.41176471 | E28: =IF(ISNUMBER($B12),E12/$B12," ") -> 0.35294118 | F28: =IF(ISNUMBER($B12),F12/$B12," ") -> 3.3529412 | G28: =IF(ISNUMBER($B12),G12/$B12," ") -> 1.5882353 | H28: =IF(ISNUMBER($B12),H12/$B12," ") -> 1.5294118 | I28: =IF(ISNUMBER($B12),I12/$B12," ") -> 0.11764706 | J28: =IF(ISNUMBER($B12),J12/$B12," ") -> 1.8823529 | ... M28: =IF(ISNUMBER($B12),M12/$B12," ") -> 7.9411765
A29: =IF(A13=""," ",A13) -> Jei Welsh | C29: =IF(ISNUMBER($B13),C13/$B13," ") -> 2.4285714 | D29: =IF(ISNUMBER($B13),D13/$B13," ") -> 0.071428571 | E29: =IF(ISNUMBER($B13),E13/$B13," ") -> 0.57142857 | F29: =IF(ISNUMBER($B13),F13/$B13," ") -> 4.7142857 | G29: =IF(ISNUMBER($B13),G13/$B13," ") -> 0.28571429 | H29: =IF(ISNUMBER($B13),H13/$B13," ") -> 0.71428571 | I29: =IF(ISNUMBER($B13),I13/$B13," ") -> 0.28571429 | J29: =IF(ISNUMBER($B13),J13/$B13," ") -> 1.5714286 | ... M29: =IF(ISNUMBER($B13),M13/$B13," ") -> 5.6428571
A30: =IF(A14=""," ",A14) | C30: =IF(ISNUMBER($B14),C14/$B14," ") | D30: =IF(ISNUMBER($B14),D14/$B14," ") | E30: =IF(ISNUMBER($B14),E14/$B14," ") | F30: =IF(ISNUMBER($B14),F14/$B14," ") | G30: =IF(ISNUMBER($B14),G14/$B14," ") | H30: =IF(ISNUMBER($B14),H14/$B14," ") | I30: =IF(ISNUMBER($B14),I14/$B14," ") | J30: =IF(ISNUMBER($B14),J14/$B14," ") | ... M30: =IF(ISNUMBER($B14),M14/$B14," ")
A31: =IF(A15=""," ",A15) | C31: =IF(ISNUMBER($B15),C15/$B15," ") | D31: =IF(ISNUMBER($B15),D15/$B15," ") | E31: =IF(ISNUMBER($B15),E15/$B15," ") | F31: =IF(ISNUMBER($B15),F15/$B15," ") | G31: =IF(ISNUMBER($B15),G15/$B15," ") | H31: =IF(ISNUMBER($B15),H15/$B15," ") | I31: =IF(ISNUMBER($B15),I15/$B15," ") | J31: =IF(ISNUMBER($B15),J15/$B15," ") | ... M31: =IF(ISNUMBER($B15),M15/$B15," ")
A32: =IF(A16=""," ",A16) | C32: =IF(ISNUMBER($B16),C16/$B16," ") | D32: =IF(ISNUMBER($B16),D16/$B16," ") | E32: =IF(ISNUMBER($B16),E16/$B16," ") | F32: =IF(ISNUMBER($B16),F16/$B16," ") | G32: =IF(ISNUMBER($B16),G16/$B16," ") | H32: =IF(ISNUMBER($B16),H16/$B16," ") | I32: =IF(ISNUMBER($B16),I16/$B16," ") | J32: =IF(ISNUMBER($B16),J16/$B16," ") | ... M32: =IF(ISNUMBER($B16),M16/$B16," ")

Sheet Frabakah Elite
A1: minimum 13 games required for finals eligibility
A2: Frabakah Elite | Q2: Frabakah Elite
A3: Players | B3: Games Played | C3: FG | D3: 3P | E3: FT | F3: REB | G3: AST | H3: STL | I3: BLK | J3: PFS | K3: TFS | L3: UFS | M3: PTS | N3: Injury Attendance | O3: Game eligibility | P3: CPR | R3: Poistive | S3: Negative
A4: Ryan Crowe | B4: 32 | C4: 89 | D4: 17 | E4: 18 | F4: 168 | G4: 54 | H4: 31 | I4: 22 | J4: 27 | K4: 0 | L4: 0 | M4: 247 | N4: =VLOOKUP(A4,Games!$A$2:$D$527,3,FALSE) -> 0 | O4: =VLOOKUP(A4,Games!$A$2:$D$527,4,FALSE) -> 32 | P4: =(R4-S4)/B4 -> 15.46875 | R4: =SUM(M4,I4,H4,(G4*1.5),F4) -> 549 | S4: =SUM((J4*2),(K4*3),(L4*4)) -> 54 | T4: =IFERROR(VLOOKUP(A4,Games!$I$2:$I$246,1,FALSE)," ")
A5: Lachlan French | B5: 31 | C5: 12 | D5: 15 | E5: 0 | F5: 63 | G5: 52 | H5: 27 | I5: 0 | J5: 44 | K5: 0 | L5: 0 | M5: 69 | N5: =VLOOKUP(A5,Games!$A$2:$D$527,3,FALSE) -> 0 | O5: =VLOOKUP(A5,Games!$A$2:$D$527,4,FALSE) -> 31 | P5: =(R5-S5)/B5 -> 4.8064516 | R5: =SUM(M5,I5,H5,(G5*1.5),F5) -> 237 | S5: =SUM((J5*2),(K5*3),(L5*4)) -> 88 | T5: =IFERROR(VLOOKUP(A5,Games!$I$2:$I$246,1,FALSE)," ")
A6: Clarence Revilla | B6: 31 | C6: 85 | D6: 47 | E6: 45 | F6: 194 | G6: 97 | H6: 53 | I6: 11 | J6: 39 | K6: 0 | L6: 0 | M6: 356 | N6: =VLOOKUP(A6,Games!$A$2:$D$527,3,FALSE) -> 0 | O6: =VLOOKUP(A6,Games!$A$2:$D$527,4,FALSE) -> 31 | P6: =(R6-S6)/B6 -> 21.983871 | R6: =SUM(M6,I6,H6,(G6*1.5),F6) -> 759.5 | S6: =SUM((J6*2),(K6*3),(L6*4)) -> 78 | T6: =IFERROR(VLOOKUP(A6,Games!$I$2:$I$246,1,FALSE)," ")
A7: Bryan Neequaye | B7: 30 | C7: 68 | D7: 2 | E7: 37 | F7: 227 | G7: 12 | H7: 29 | I7: 8 | J7: 62 | K7: 0 | L7: 0 | M7: 179 | N7: =VLOOKUP(A7,Games!$A$2:$D$527,3,FALSE) -> 0 | O7: =VLOOKUP(A7,Games!$A$2:$D$527,4,FALSE) -> 30 | P7: =(R7-S7)/B7 -> 11.233333 | R7: =SUM(M7,I7,H7,(G7*1.5),F7) -> 461 | S7: =SUM((J7*2),(K7*3),(L7*4)) -> 124 | T7: =IFERROR(VLOOKUP(A7,Games!$I$2:$I$246,1,FALSE)," ")
A8: Toni Bandilovski | B8: 26 | C8: 32 | D8: 6 | E8: 8 | F8: 106 | G8: 28 | H8: 18 | I8: 5 | J8: 18 | K8: 0 | L8: 0 | M8: 90 | N8: =VLOOKUP(A8,Games!$A$2:$D$527,3,FALSE) -> 0 | O8: =VLOOKUP(A8,Games!$A$2:$D$527,4,FALSE) -> 26 | P8: =(R8-S8)/B8 -> 8.6538462 | R8: =SUM(M8,I8,H8,(G8*1.5),F8) -> 261 | S8: =SUM((J8*2),(K8*3),(L8*4)) -> 36 | T8: =IFERROR(VLOOKUP(A8,Games!$I$2:$I$246,1,FALSE)," ")
A9: Bailey Mallitt | B9: 22 | C9: 36 | D9: 20 | E9: 9 | F9: 60 | G9: 31 | H9: 17 | I9: 4 | J9: 18 | K9: 0 | L9: 0 | M9: 141 | N9: =VLOOKUP(A9,Games!$A$2:$D$527,3,FALSE) -> 0 | O9: =VLOOKUP(A9,Games!$A$2:$D$527,4,FALSE) -> 22 | P9: =(R9-S9)/B9 -> 10.568182 | R9: =SUM(M9,I9,H9,(G9*1.5),F9) -> 268.5 | S9: =SUM((J9*2),(K9*3),(L9*4)) -> 36 | T9: =IFERROR(VLOOKUP(A9,Games!$I$2:$I$246,1,FALSE)," ")
A10: Nic Adams | B10: 18 | C10: 28 | D10: 4 | E10: 12 | F10: 95 | G10: 36 | H10: 8 | I10: 0 | J10: 17 | K10: 0 | L10: 0 | M10: 80 | N10: =VLOOKUP(A10,Games!$A$2:$D$527,3,FALSE) -> 0 | O10: =VLOOKUP(A10,Games!$A$2:$D$527,4,FALSE) -> 18 | P10: =(R10-S10)/B10 -> 11.277778 | R10: =SUM(M10,I10,H10,(G10*1.5),F10) -> 237 | S10: =SUM((J10*2),(K10*3),(L10*4)) -> 34 | T10: =IFERROR(VLOOKUP(A10,Games!$I$2:$I$246,1,FALSE)," ")
A11: Joses Idehen | B11: 17 | C11: 59 | D11: 1 | E11: 24 | F11: 74 | G11: 23 | H11: 9 | I11: 13 | J11: 23 | K11: 0 | L11: 0 | M11: 145 | N11: =VLOOKUP(A11,Games!$A$2:$D$527,3,FALSE) -> 0 | O11: =VLOOKUP(A11,Games!$A$2:$D$527,4,FALSE) -> 17 | P11: =(R11-S11)/B11 -> 13.5 | R11: =SUM(M11,I11,H11,(G11*1.5),F11) -> 275.5 | S11: =SUM((J11*2),(K11*3),(L11*4)) -> 46 | T11: =IFERROR(VLOOKUP(A11,Games!$I$2:$I$246,1,FALSE)," ")
A12: Ralph Quizon | B12: 13 | C12: 7 | D12: 14 | E12: 1 | F12: 28 | G12: 15 | H12: 9 | I12: 0 | J12: 7 | K12: 0 | L12: 0 | M12: 57 | N12: =VLOOKUP(A12,Games!$A$2:$D$527,3,FALSE) -> 0 | O12: =VLOOKUP(A12,Games!$A$2:$D$527,4,FALSE) -> 13 | P12: =(R12-S12)/B12 -> 7.8846154 | R12: =SUM(M12,I12,H12,(G12*1.5),F12) -> 116.5 | S12: =SUM((J12*2),(K12*3),(L12*4)) -> 14 | T12: =IFERROR(VLOOKUP(A12,Games!$I$2:$I$246,1,FALSE)," ")
A13: Allen Revilla | B13: 12 | C13: 39 | D13: 12 | E13: 14 | F13: 27 | G13: 23 | H13: 22 | I13: 1 | J13: 8 | K13: 0 | L13: 0 | M13: 128 | N13: =VLOOKUP(A13,Games!$A$2:$D$527,3,FALSE) -> 0 | O13: =VLOOKUP(A13,Games!$A$2:$D$527,4,FALSE) -> 12 | P13: =(R13-S13)/B13 -> 16.375 | R13: =SUM(M13,I13,H13,(G13*1.5),F13) -> 212.5 | S13: =SUM((J13*2),(K13*3),(L13*4)) -> 16 | T13: =IFERROR(VLOOKUP(A13,Games!$I$2:$I$246,1,FALSE)," ")
A14: Marcus David | B14: 11 | C14: 4 | D14: 1 | E14: 0 | F14: 16 | G14: 2 | H14: 2 | I14: 0 | J14: 5 | K14: 0 | L14: 0 | M14: 11 | N14: =VLOOKUP(A14,Games!$A$2:$D$527,3,FALSE) -> 0 | O14: =VLOOKUP(A14,Games!$A$2:$D$527,4,FALSE) -> 11 | P14: =(R14-S14)/B14 -> 2 | R14: =SUM(M14,I14,H14,(G14*1.5),F14) -> 32 | S14: =SUM((J14*2),(K14*3),(L14*4)) -> 10 | T14: =IFERROR(VLOOKUP(A14,Games!$I$2:$I$246,1,FALSE)," ")
A15: Kinley Tobgay | B15: 6 | C15: 7 | D15: 7 | E15: 0 | F15: 11 | G15: 3 | H15: 1 | I15: 0 | J15: 0 | K15: 0 | L15: 0 | M15: 35 | N15: =VLOOKUP(A15,Games!$A$2:$D$527,3,FALSE) -> 0 | O15: =VLOOKUP(A15,Games!$A$2:$D$527,4,FALSE) -> 6 | P15: =(R15-S15)/B15 -> 8.5833333 | R15: =SUM(M15,I15,H15,(G15*1.5),F15) -> 51.5 | S15: =SUM((J15*2),(K15*3),(L15*4)) -> 0 | T15: =IFERROR(VLOOKUP(A15,Games!$I$2:$I$246,1,FALSE)," ")
... A20: Cheakon Ng | B20: 1 | C20: 0 | D20: 0 | E20: 1 | F20: 1 | G20: 0 | H20: 0 | I20: 0 | J20: 1 | K20: 0 | L20: 0 | M20: 1 | N20: =VLOOKUP(A20,Games!$A$2:$D$527,3,FALSE) -> 0 | O20: =VLOOKUP(A20,Games!$A$2:$D$527,4,FALSE) -> 1 | P20: =(R20-S20)/B20 -> 0 | R20: =SUM(M20,I20,H20,(G20*1.5),F20) -> 2 | S20: =SUM((J20*2),(K20*3),(L20*4)) -> 2 | T20: =IFERROR(VLOOKUP(A20,Games!$I$2:$I$246,1,FALSE)," ")
A23: Averages
A24: Frabakah Elite
A25: Players | B25: Games Played | C25: FG | D25: 3P | E25: FT | F25: REB | G25: AST | H25: STL | I25: BLK | J25: PFS | K25: TFS | L25: UFS | M25: PTS
A26: =IF(A4=""," ",A4) -> Ryan Crowe | C26: =IF(ISNUMBER($B4),C4/$B4," ") -> 2.78125 | D26: =IF(ISNUMBER($B4),D4/$B4," ") -> 0.53125 | E26: =IF(ISNUMBER($B4),E4/$B4," ") -> 0.5625 | F26: =IF(ISNUMBER($B4),F4/$B4," ") -> 5.25 | G26: =IF(ISNUMBER($B4),G4/$B4," ") -> 1.6875 | H26: =IF(ISNUMBER($B4),H4/$B4," ") -> 0.96875 | I26: =IF(ISNUMBER($B4),I4/$B4," ") -> 0.6875 | J26: =IF(ISNUMBER($B4),J4/$B4," ") -> 0.84375 | ... M26: =IF(ISNUMBER($B4),M4/$B4," ") -> 7.71875
A27: =IF(A5=""," ",A5) -> Lachlan French | C27: =IF(ISNUMBER($B5),C5/$B5," ") -> 0.38709677 | D27: =IF(ISNUMBER($B5),D5/$B5," ") -> 0.48387097 | E27: =IF(ISNUMBER($B5),E5/$B5," ") -> 0 | F27: =IF(ISNUMBER($B5),F5/$B5," ") -> 2.0322581 | G27: =IF(ISNUMBER($B5),G5/$B5," ") -> 1.6774194 | H27: =IF(ISNUMBER($B5),H5/$B5," ") -> 0.87096774 | I27: =IF(ISNUMBER($B5),I5/$B5," ") -> 0 | J27: =IF(ISNUMBER($B5),J5/$B5," ") -> 1.4193548 | ... M27: =IF(ISNUMBER($B5),M5/$B5," ") -> 2.2258065
A28: =IF(A6=""," ",A6) -> Clarence Revilla | C28: =IF(ISNUMBER($B6),C6/$B6," ") -> 2.7419355 | D28: =IF(ISNUMBER($B6),D6/$B6," ") -> 1.516129 | E28: =IF(ISNUMBER($B6),E6/$B6," ") -> 1.4516129 | F28: =IF(ISNUMBER($B6),F6/$B6," ") -> 6.2580645 | G28: =IF(ISNUMBER($B6),G6/$B6," ") -> 3.1290323 | H28: =IF(ISNUMBER($B6),H6/$B6," ") -> 1.7096774 | I28: =IF(ISNUMBER($B6),I6/$B6," ") -> 0.35483871 | J28: =IF(ISNUMBER($B6),J6/$B6," ") -> 1.2580645 | ... M28: =IF(ISNUMBER($B6),M6/$B6," ") -> 11.483871
A29: =IF(A7=""," ",A7) -> Bryan Neequaye | C29: =IF(ISNUMBER($B7),C7/$B7," ") -> 2.2666667 | D29: =IF(ISNUMBER($B7),D7/$B7," ") -> 0.066666667 | E29: =IF(ISNUMBER($B7),E7/$B7," ") -> 1.2333333 | F29: =IF(ISNUMBER($B7),F7/$B7," ") -> 7.5666667 | G29: =IF(ISNUMBER($B7),G7/$B7," ") -> 0.4 | H29: =IF(ISNUMBER($B7),H7/$B7," ") -> 0.96666667 | I29: =IF(ISNUMBER($B7),I7/$B7," ") -> 0.26666667 | J29: =IF(ISNUMBER($B7),J7/$B7," ") -> 2.0666667 | ... M29: =IF(ISNUMBER($B7),M7/$B7," ") -> 5.9666667
A30: =IF(A8=""," ",A8) -> Toni Bandilovski | C30: =IF(ISNUMBER($B8),C8/$B8," ") -> 1.2307692 | D30: =IF(ISNUMBER($B8),D8/$B8," ") -> 0.23076923 | E30: =IF(ISNUMBER($B8),E8/$B8," ") -> 0.30769231 | F30: =IF(ISNUMBER($B8),F8/$B8," ") -> 4.0769231 | G30: =IF(ISNUMBER($B8),G8/$B8," ") -> 1.0769231 | H30: =IF(ISNUMBER($B8),H8/$B8," ") -> 0.69230769 | I30: =IF(ISNUMBER($B8),I8/$B8," ") -> 0.19230769 | J30: =IF(ISNUMBER($B8),J8/$B8," ") -> 0.69230769 | ... M30: =IF(ISNUMBER($B8),M8/$B8," ") -> 3.4615385
A31: =IF(A9=""," ",A9) -> Bailey Mallitt | C31: =IF(ISNUMBER($B9),C9/$B9," ") -> 1.6363636 | D31: =IF(ISNUMBER($B9),D9/$B9," ") -> 0.90909091 | E31: =IF(ISNUMBER($B9),E9/$B9," ") -> 0.40909091 | F31: =IF(ISNUMBER($B9),F9/$B9," ") -> 2.7272727 | G31: =IF(ISNUMBER($B9),G9/$B9," ") -> 1.4090909 | H31: =IF(ISNUMBER($B9),H9/$B9," ") -> 0.77272727 | I31: =IF(ISNUMBER($B9),I9/$B9," ") -> 0.18181818 | J31: =IF(ISNUMBER($B9),J9/$B9," ") -> 0.81818182 | ... M31: =IF(ISNUMBER($B9),M9/$B9," ") -> 6.4090909
A32: =IF(A10=""," ",A10) -> Nic Adams | C32: =IF(ISNUMBER($B10),C10/$B10," ") -> 1.5555556 | D32: =IF(ISNUMBER($B10),D10/$B10," ") -> 0.22222222 | E32: =IF(ISNUMBER($B10),E10/$B10," ") -> 0.66666667 | F32: =IF(ISNUMBER($B10),F10/$B10," ") -> 5.2777778 | G32: =IF(ISNUMBER($B10),G10/$B10," ") -> 2 | H32: =IF(ISNUMBER($B10),H10/$B10," ") -> 0.44444444 | I32: =IF(ISNUMBER($B10),I10/$B10," ") -> 0 | J32: =IF(ISNUMBER($B10),J10/$B10," ") -> 0.94444444 | ... M32: =IF(ISNUMBER($B10),M10/$B10," ") -> 4.4444444
A33: =IF(A11=""," ",A11) -> Joses Idehen | C33: =IF(ISNUMBER($B11),C11/$B11," ") -> 3.4705882 | D33: =IF(ISNUMBER($B11),D11/$B11," ") -> 0.058823529 | E33: =IF(ISNUMBER($B11),E11/$B11," ") -> 1.4117647 | F33: =IF(ISNUMBER($B11),F11/$B11," ") -> 4.3529412 | G33: =IF(ISNUMBER($B11),G11/$B11," ") -> 1.3529412 | H33: =IF(ISNUMBER($B11),H11/$B11," ") -> 0.52941176 | I33: =IF(ISNUMBER($B11),I11/$B11," ") -> 0.76470588 | J33: =IF(ISNUMBER($B11),J11/$B11," ") -> 1.3529412 | ... M33: =IF(ISNUMBER($B11),M11/$B11," ") -> 8.5294118
A34: =IF(A12=""," ",A12) -> Ralph Quizon | C34: =IF(ISNUMBER($B12),C12/$B12," ") -> 0.53846154 | D34: =IF(ISNUMBER($B12),D12/$B12," ") -> 1.0769231 | E34: =IF(ISNUMBER($B12),E12/$B12," ") -> 0.076923077 | F34: =IF(ISNUMBER($B12),F12/$B12," ") -> 2.1538462 | G34: =IF(ISNUMBER($B12),G12/$B12," ") -> 1.1538462 | H34: =IF(ISNUMBER($B12),H12/$B12," ") -> 0.69230769 | I34: =IF(ISNUMBER($B12),I12/$B12," ") -> 0 | J34: =IF(ISNUMBER($B12),J12/$B12," ") -> 0.53846154 | ... M34: =IF(ISNUMBER($B12),M12/$B12," ") -> 4.3846154
A35: =IF(A13=""," ",A13) -> Allen Revilla | C35: =IF(ISNUMBER($B13),C13/$B13," ") -> 3.25 | D35: =IF(ISNUMBER($B13),D13/$B13," ") -> 1 | E35: =IF(ISNUMBER($B13),E13/$B13," ") -> 1.1666667 | F35: =IF(ISNUMBER($B13),F13/$B13," ") -> 2.25 | G35: =IF(ISNUMBER($B13),G13/$B13," ") -> 1.9166667 | H35: =IF(ISNUMBER($B13),H13/$B13," ") -> 1.8333333 | I35: =IF(ISNUMBER($B13),I13/$B13," ") -> 0.083333333 | J35: =IF(ISNUMBER($B13),J13/$B13," ") -> 0.66666667 | ... M35: =IF(ISNUMBER($B13),M13/$B13," ") -> 10.666667
A36: =IF(A14=""," ",A14) -> Marcus David | C36: =IF(ISNUMBER($B14),C14/$B14," ") -> 0.36363636 | D36: =IF(ISNUMBER($B14),D14/$B14," ") -> 0.090909091 | E36: =IF(ISNUMBER($B14),E14/$B14," ") -> 0 | F36: =IF(ISNUMBER($B14),F14/$B14," ") -> 1.4545455 | G36: =IF(ISNUMBER($B14),G14/$B14," ") -> 0.18181818 | H36: =IF(ISNUMBER($B14),H14/$B14," ") -> 0.18181818 | I36: =IF(ISNUMBER($B14),I14/$B14," ") -> 0 | J36: =IF(ISNUMBER($B14),J14/$B14," ") -> 0.45454545 | ... M36: =IF(ISNUMBER($B14),M14/$B14," ") -> 1
A37: =IF(A15=""," ",A15) -> Kinley Tobgay | C37: =IF(ISNUMBER($B15),C15/$B15," ") -> 1.1666667 | D37: =IF(ISNUMBER($B15),D15/$B15," ") -> 1.1666667 | E37: =IF(ISNUMBER($B15),E15/$B15," ") -> 0 | F37: =IF(ISNUMBER($B15),F15/$B15," ") -> 1.8333333 | G37: =IF(ISNUMBER($B15),G15/$B15," ") -> 0.5 | H37: =IF(ISNUMBER($B15),H15/$B15," ") -> 0.16666667 | I37: =IF(ISNUMBER($B15),I15/$B15," ") -> 0 | J37: =IF(ISNUMBER($B15),J15/$B15," ") -> 0 | ... M37: =IF(ISNUMBER($B15),M15/$B15," ") -> 5.8333333
... A42: =IF(A20=""," ",A20) -> Cheakon Ng | C42: =IF(ISNUMBER($B20),C20/$B20," ") -> 0 | D42: =IF(ISNUMBER($B20),D20/$B20," ") -> 0 | E42: =IF(ISNUMBER($B20),E20/$B20," ") -> 1 | F42: =IF(ISNUMBER($B20),F20/$B20," ") -> 1 | G42: =IF(ISNUMBER($B20),G20/$B20," ") -> 0 | H42: =IF(ISNUMBER($B20),H20/$B20," ") -> 0 | I42: =IF(ISNUMBER($B20),I20/$B20," ") -> 0 | J42: =IF(ISNUMBER($B20),J20/$B20," ") -> 1 | ... M42: =IF(ISNUMBER($B20),M20/$B20," ") -> 1

Sheet Goldenlight Warriors
A1: minimum 13 games required for finals eligibility
A2: Goldenlight Warriors | Q2: Goldenlight Warriors
A3: Players | B3: Games Played | C3: FG | D3: 3P | E3: FT | F3: REB | G3: AST | H3: STL | I3: BLK | J3: PFS | K3: TFS | L3: UFS | M3: PTS | N3: Injury Attendance | O3: Game eligibility | P3: CPR | R3: Poistive | S3: Negative
A4: Flynn Attard | B4: 29 | C4: 34 | D4: 1 | E4: 15 | F4: 215 | G4: 17 | H4: 27 | I4: 36 | J4: 47 | K4: 0 | L4: 0 | M4: 86 | N4: =VLOOKUP(A4,Games!$A$2:$D$527,3,FALSE) -> 0 | O4: =VLOOKUP(A4,Games!$A$2:$D$527,4,FALSE) -> 29 | P4: =(R4-S4)/B4 -> 10.189655 | R4: =SUM(M4,I4,H4,(G4*1.5),F4) -> 389.5 | S4: =SUM((J4*2),(K4*3),(L4*4)) -> 94 | T4: =IFERROR(VLOOKUP(A4,Games!$I$2:$I$246,1,FALSE)," ") -> Flynn Attard
A5: Tuvshinbagana Munkhjargal | B5: 28 | C5: 16 | D5: 21 | E5: 4 | F5: 78 | G5: 80 | H5: 45 | I5: 2 | J5: 54 | K5: 1 | L5: 0 | M5: 99 | N5: =VLOOKUP(A5,Games!$A$2:$D$527,3,FALSE) -> 0 | O5: =VLOOKUP(A5,Games!$A$2:$D$527,4,FALSE) -> 28 | P5: =(R5-S5)/B5 -> 8.3214286 | R5: =SUM(M5,I5,H5,(G5*1.5),F5) -> 344 | S5: =SUM((J5*2),(K5*3),(L5*4)) -> 111 | T5: =IFERROR(VLOOKUP(A5,Games!$I$2:$I$246,1,FALSE)," ")
A6: Batadorj Ganbaatar | B6: 27 | C6: 89 | D6: 30 | E6: 42 | F6: 204 | G6: 33 | H6: 31 | I6: 6 | J6: 69 | K6: 0 | L6: 0 | M6: 310 | N6: =VLOOKUP(A6,Games!$A$2:$D$527,3,FALSE) -> 1 | O6: =VLOOKUP(A6,Games!$A$2:$D$527,4,FALSE) -> 28 | P6: =(R6-S6)/B6 -> 17.12963 | R6: =SUM(M6,I6,H6,(G6*1.5),F6) -> 600.5 | S6: =SUM((J6*2),(K6*3),(L6*4)) -> 138 | T6: =IFERROR(VLOOKUP(A6,Games!$I$2:$I$246,1,FALSE)," ")
A7: Alex Tumurbaatar | B7: 26 | C7: 116 | D7: 30 | E7: 73 | F7: 171 | G7: 81 | H7: 45 | I7: 4 | J7: 78 | K7: 3 | L7: 0 | M7: 395 | N7: =VLOOKUP(A7,Games!$A$2:$D$527,3,FALSE) -> 0 | O7: =VLOOKUP(A7,Games!$A$2:$D$527,4,FALSE) -> 26 | P7: =(R7-S7)/B7 -> 21.980769 | R7: =SUM(M7,I7,H7,(G7*1.5),F7) -> 736.5 | S7: =SUM((J7*2),(K7*3),(L7*4)) -> 165 | T7: =IFERROR(VLOOKUP(A7,Games!$I$2:$I$246,1,FALSE)," ")
A8: Gombosuren Lkhamsuren | B8: 24 | C8: 7 | D8: 3 | E8: 0 | F8: 58 | G8: 19 | H8: 15 | I8: 0 | J8: 16 | K8: 0 | L8: 0 | M8: 23 | N8: =VLOOKUP(A8,Games!$A$2:$D$527,3,FALSE) -> 0 | O8: =VLOOKUP(A8,Games!$A$2:$D$527,4,FALSE) -> 24 | P8: =(R8-S8)/B8 -> 3.8541667 | R8: =SUM(M8,I8,H8,(G8*1.5),F8) -> 124.5 | S8: =SUM((J8*2),(K8*3),(L8*4)) -> 32 | T8: =IFERROR(VLOOKUP(A8,Games!$I$2:$I$246,1,FALSE)," ")
A9: Erkhtur Erdenebileg | B9: 24 | C9: 26 | D9: 71 | E9: 5 | F9: 49 | G9: 28 | H9: 26 | I9: 1 | J9: 27 | K9: 0 | L9: 1 | M9: 270 | N9: =VLOOKUP(A9,Games!$A$2:$D$527,3,FALSE) -> 0 | O9: =VLOOKUP(A9,Games!$A$2:$D$527,4,FALSE) -> 24 | P9: =(R9-S9)/B9 -> 13.75 | R9: =SUM(M9,I9,H9,(G9*1.5),F9) -> 388 | S9: =SUM((J9*2),(K9*3),(L9*4)) -> 58 | T9: =IFERROR(VLOOKUP(A9,Games!$I$2:$I$246,1,FALSE)," ")
A10: Paanaa Ayurzana | B10: 24 | C10: 4 | D10: 0 | E10: 0 | F10: 39 | G10: 12 | H10: 12 | I10: 0 | J10: 16 | K10: 1 | L10: 0 | M10: 8 | N10: =VLOOKUP(A10,Games!$A$2:$D$527,3,FALSE) -> 0 | O10: =VLOOKUP(A10,Games!$A$2:$D$527,4,FALSE) -> 24 | P10: =(R10-S10)/B10 -> 1.75 | R10: =SUM(M10,I10,H10,(G10*1.5),F10) -> 77 | S10: =SUM((J10*2),(K10*3),(L10*4)) -> 35 | T10: =IFERROR(VLOOKUP(A10,Games!$I$2:$I$246,1,FALSE)," ")
A11: Altangerel Ganzorig | B11: 19 | C11: 45 | D11: 0 | E11: 11 | F11: 146 | G11: 11 | H11: 10 | I11: 2 | J11: 44 | K11: 1 | L11: 0 | M11: 101 | N11: =VLOOKUP(A11,Games!$A$2:$D$527,3,FALSE) -> 0 | O11: =VLOOKUP(A11,Games!$A$2:$D$527,4,FALSE) -> 19 | P11: =(R11-S11)/B11 -> 9.7105263 | R11: =SUM(M11,I11,H11,(G11*1.5),F11) -> 275.5 | S11: =SUM((J11*2),(K11*3),(L11*4)) -> 91 | T11: =IFERROR(VLOOKUP(A11,Games!$I$2:$I$246,1,FALSE)," ")
A12: Magnaibayar Munkhbat | B12: 9 | C12: 10 | D12: 0 | E12: 3 | F12: 20 | G12: 7 | H12: 4 | I12: 1 | J12: 11 | K12: 0 | L12: 0 | M12: 23 | N12: =VLOOKUP(A12,Games!$A$2:$D$527,3,FALSE) -> 0 | O12: =VLOOKUP(A12,Games!$A$2:$D$527,4,FALSE) -> 9 | P12: =(R12-S12)/B12 -> 4.0555556 | R12: =SUM(M12,I12,H12,(G12*1.5),F12) -> 58.5 | S12: =SUM((J12*2),(K12*3),(L12*4)) -> 22 | T12: =IFERROR(VLOOKUP(A12,Games!$I$2:$I$246,1,FALSE)," ")
A13: Purevbaatar Narantuya | B13: 7 | C13: 32 | D13: 11 | E13: 8 | F13: 35 | G13: 36 | H13: 16 | I13: 0 | J13: 16 | K13: 0 | L13: 1 | M13: 105 | N13: =VLOOKUP(A13,Games!$A$2:$D$527,3,FALSE) -> 0 | O13: =VLOOKUP(A13,Games!$A$2:$D$527,4,FALSE) -> 7 | P13: =(R13-S13)/B13 -> 24.857143 | R13: =SUM(M13,I13,H13,(G13*1.5),F13) -> 210 | S13: =SUM((J13*2),(K13*3),(L13*4)) -> 36 | T13: =IFERROR(VLOOKUP(A13,Games!$I$2:$I$246,1,FALSE)," ")
A14: Magnai Muukhbat | B14: 7 | C14: 5 | D14: 0 | E14: 0 | F14: 18 | G14: 3 | H14: 1 | I14: 1 | J14: 5 | K14: 0 | L14: 0 | M14: 10 | N14: =VLOOKUP(A14,Games!$A$2:$D$527,3,FALSE) -> 0 | O14: =VLOOKUP(A14,Games!$A$2:$D$527,4,FALSE) -> 7 | P14: =(R14-S14)/B14 -> 3.5 | R14: =SUM(M14,I14,H14,(G14*1.5),F14) -> 34.5 | S14: =SUM((J14*2),(K14*3),(L14*4)) -> 10 | T14: =IFERROR(VLOOKUP(A14,Games!$I$2:$I$246,1,FALSE)," ")
A15: Turbat Bassansuren | B15: 6 | C15: 2 | D15: 1 | E15: 4 | F15: 16 | G15: 2 | H15: 4 | I15: 0 | J15: 9 | K15: 1 | L15: 0 | M15: 11 | N15: =VLOOKUP(A15,Games!$A$2:$D$527,3,FALSE) -> 0 | O15: =VLOOKUP(A15,Games!$A$2:$D$527,4,FALSE) -> 6 | P15: =(R15-S15)/B15 -> 2.1666667 | R15: =SUM(M15,I15,H15,(G15*1.5),F15) -> 34 | S15: =SUM((J15*2),(K15*3),(L15*4)) -> 21 | T15: =IFERROR(VLOOKUP(A15,Games!$I$2:$I$246,1,FALSE)," ")
... A22: Viggy Mohan | B22: 1 | C22: 1 | D22: 2 | E22: 3 | F22: 0 | G22: 1 | H22: 0 | I22: 0 | J22: 1 | K22: 0 | L22: 0 | M22: 11 | N22: =VLOOKUP(A22,Games!$A$2:$D$527,3,FALSE) -> 0 | O22: =VLOOKUP(A22,Games!$A$2:$D$527,4,FALSE) -> 1 | P22: =(R22-S22)/B22 -> 10.5 | R22: =SUM(M22,I22,H22,(G22*1.5),F22) -> 12.5 | S22: =SUM((J22*2),(K22*3),(L22*4)) -> 2 | T22: =IFERROR(VLOOKUP(A22,Games!$I$2:$I$246,1,FALSE)," ")
A23: Averages
A24: Goldenlight Warriors
A25: Players | B25: Games Played | C25: FG | D25: 3P | E25: FT | F25: REB | G25: AST | H25: STL | I25: BLK | J25: PFS | K25: TFS | L25: UFS | M25: PTS
A26: =IF(A4=""," ",A4) -> Flynn Attard | C26: =IF(ISNUMBER($B4),C4/$B4," ") -> 1.1724138 | D26: =IF(ISNUMBER($B4),D4/$B4," ") -> 0.034482759 | E26: =IF(ISNUMBER($B4),E4/$B4," ") -> 0.51724138 | F26: =IF(ISNUMBER($B4),F4/$B4," ") -> 7.4137931 | G26: =IF(ISNUMBER($B4),G4/$B4," ") -> 0.5862069 | H26: =IF(ISNUMBER($B4),H4/$B4," ") -> 0.93103448 | I26: =IF(ISNUMBER($B4),I4/$B4," ") -> 1.2413793 | J26: =IF(ISNUMBER($B4),J4/$B4," ") -> 1.6206897 | ... M26: =IF(ISNUMBER($B4),M4/$B4," ") -> 2.9655172
A27: =IF(A5=""," ",A5) -> Tuvshinbagana Munkhjargal | C27: =IF(ISNUMBER($B5),C5/$B5," ") -> 0.57142857 | D27: =IF(ISNUMBER($B5),D5/$B5," ") -> 0.75 | E27: =IF(ISNUMBER($B5),E5/$B5," ") -> 0.14285714 | F27: =IF(ISNUMBER($B5),F5/$B5," ") -> 2.7857143 | G27: =IF(ISNUMBER($B5),G5/$B5," ") -> 2.8571429 | H27: =IF(ISNUMBER($B5),H5/$B5," ") -> 1.6071429 | I27: =IF(ISNUMBER($B5),I5/$B5," ") -> 0.071428571 | J27: =IF(ISNUMBER($B5),J5/$B5," ") -> 1.9285714 | ... M27: =IF(ISNUMBER($B5),M5/$B5," ") -> 3.5357143
A28: =IF(A6=""," ",A6) -> Batadorj Ganbaatar | C28: =IF(ISNUMBER($B6),C6/$B6," ") -> 3.2962963 | D28: =IF(ISNUMBER($B6),D6/$B6," ") -> 1.1111111 | E28: =IF(ISNUMBER($B6),E6/$B6," ") -> 1.5555556 | F28: =IF(ISNUMBER($B6),F6/$B6," ") -> 7.5555556 | G28: =IF(ISNUMBER($B6),G6/$B6," ") -> 1.2222222 | H28: =IF(ISNUMBER($B6),H6/$B6," ") -> 1.1481481 | I28: =IF(ISNUMBER($B6),I6/$B6," ") -> 0.22222222 | J28: =IF(ISNUMBER($B6),J6/$B6," ") -> 2.5555556 | ... M28: =IF(ISNUMBER($B6),M6/$B6," ") -> 11.481481
A29: =IF(A7=""," ",A7) -> Alex Tumurbaatar | C29: =IF(ISNUMBER($B7),C7/$B7," ") -> 4.4615385 | D29: =IF(ISNUMBER($B7),D7/$B7," ") -> 1.1538462 | E29: =IF(ISNUMBER($B7),E7/$B7," ") -> 2.8076923 | F29: =IF(ISNUMBER($B7),F7/$B7," ") -> 6.5769231 | G29: =IF(ISNUMBER($B7),G7/$B7," ") -> 3.1153846 | H29: =IF(ISNUMBER($B7),H7/$B7," ") -> 1.7307692 | I29: =IF(ISNUMBER($B7),I7/$B7," ") -> 0.15384615 | J29: =IF(ISNUMBER($B7),J7/$B7," ") -> 3 | ... M29: =IF(ISNUMBER($B7),M7/$B7," ") -> 15.192308
A30: =IF(A8=""," ",A8) -> Gombosuren Lkhamsuren | C30: =IF(ISNUMBER($B8),C8/$B8," ") -> 0.29166667 | D30: =IF(ISNUMBER($B8),D8/$B8," ") -> 0.125 | E30: =IF(ISNUMBER($B8),E8/$B8," ") -> 0 | F30: =IF(ISNUMBER($B8),F8/$B8," ") -> 2.4166667 | G30: =IF(ISNUMBER($B8),G8/$B8," ") -> 0.79166667 | H30: =IF(ISNUMBER($B8),H8/$B8," ") -> 0.625 | I30: =IF(ISNUMBER($B8),I8/$B8," ") -> 0 | J30: =IF(ISNUMBER($B8),J8/$B8," ") -> 0.66666667 | ... M30: =IF(ISNUMBER($B8),M8/$B8," ") -> 0.95833333
